BEGIN:VCALENDAR
VERSION:2.0
PRODID:Events Booking
BEGIN:VEVENT
UID:69e88b926604f
SUMMARY:Symposium Theme Based One Day Workshop
DESCRIPTION:
LOCATION:76 Bras Basah Rd\, Singapore 189558
DTSTART:20170318T000000Z
DTEND:20170318T100000Z
DTSTAMP:20260422T084922Z
ORGANIZER;CN=PMI SG Chapter Events:MAILTO:events@pmi.org.sg
GEO:1.295987;103.852694
X-APPLE-STRUCTURED-LOCATION;VALUE=URI;X-ADDRESS=76 Bras Basah Rd\, Singapor
 e 189558;X-APPLE-RADIUS=72;X-TITLE=Carlton Hotel Singapore:1.295987;103.85
 2694
END:VEVENT
END:VCALENDAR