BEGIN:VCALENDAR
VERSION:2.0
PRODID:Events Booking
BEGIN:VEVENT
UID:69e87726ce6b0
SUMMARY:SPMI Regional Symposium 2017 | One Day Pass\, 16 March Only
DESCRIPTION:
LOCATION:10 Bayfront Ave\, Singapore 018956
DTSTART:20170316T000000Z
DTEND:20170216T100000Z
DTSTAMP:20260422T072214Z
ORGANIZER;CN=PMI SG Chapter Events:MAILTO:events@pmi.org.sg
GEO:1.28245;103.857881
X-APPLE-STRUCTURED-LOCATION;VALUE=URI;X-ADDRESS=10 Bayfront Ave\, Singapore
  018956;X-APPLE-RADIUS=72;X-TITLE=Marina Bay Sands Convention Centre:1.282
 45;103.857881
END:VEVENT
END:VCALENDAR