BEGIN:VCALENDAR
VERSION:2.0
PRODID:Events Booking
BEGIN:VEVENT
UID:69eb508e6c11a
SUMMARY:EVOLVE 2025 | PMI Singapore Chapter's Annual Symposium | 20 & 21-NO
 V-2025
DESCRIPTION:
 Welcome to EVOLVE 2025 - 20th Annual Hybrid Symposium
 For 
 two decades\, the Project Management Institute Singapore Chapter has proud
 ly hosted its signature Annual Hybrid Symposium - a premier gathering that
  brings together project management professionals\, industry leaders\, and
  innovators. This year marks a pivotal transformation as we reimagine and 
 relaunch the event under a fresh\, inspiring new identity: EVOLVE.
 The n
 ame “EVOLVE” symbolizes our commitment to growth\, innovation\, and tr
 ansformation within the project management profession. While it builds upo
 n the strong legacy of the Annual Hybrid Symposium\, Evolve reflects a bol
 d new chapter - one that embraces change\, celebrates adaptability\, and l
 eads the way toward the future of project success.
 
 Event Particulars
 
 Date: Thursday &amp\; Friday\, 20 &amp\; 21 November 2025
 Time (SGT)
 :  8:30 am to 6:00 pm&nbsp\;(both days)
 Venue: Grand Copthorne Wat
 erfront Hotel\, Singapore\, 169663
 PDUs: Upto&nbsp\;20  PDUs&nbsp\;(
 wherever applicable\, PMI ID to be included with registration)&nbsp\;
 Fo
 r registration &amp\; early bird offer\, please visit Singapore Chapter we
 bsite.&nbsp\;
 
 Why to attend EVOLVE 2025?
 
 Gain Insights from Indu
 stry leaders on maximising project success\, sustainability and the future
  of project management in the age of AI.
 Explore solutions to the global
  project management talent gap and learn ways to bridge skill shortage wor
 ldwide.
 Participate in various contests in different categories and walk
  away with grand prizes. Be recognized for your talent\, accomplishments\,
  and hardwork by competing with people from one of the world's largest tal
 ent pool.
 Engage in discussions on successful collaboration between proj
 ect and product managers to drive innovation and accelerate delivery.
 Pa
 rticipate in interactive workshops and thought leadership sessions that ad
 dress sustainability\, ethical project delivery and technology driven tran
 sformation.
 Build real and meaningful professional connections with peer
 s\, mentors and experts in person expanding your global network.
 
LOCATION:Grand Copthorne Waterfront Hotel\, Havelock\, Singapore
DTSTART:20251120T000000Z
DTEND:20251121T120000Z
DTSTAMP:20251017T190623Z
ORGANIZER;CN=PMI SG Chapter Events:MAILTO:events@pmi.org.sg
GEO:9999.999999;0
X-APPLE-STRUCTURED-LOCATION;VALUE=URI;X-ADDRESS=Grand Copthorne Waterfront 
 Hotel\, Havelock\, Singapore;X-APPLE-RADIUS=72;X-TITLE=Grand Copthorne Hot
 el :9999.999999;0
END:VEVENT
END:VCALENDAR