BEGIN:VCALENDAR
VERSION:2.0
PRODID:Events Booking
BEGIN:VEVENT
UID:69e5bf2175916
SUMMARY:Managing Complexity and Dynamics with Agile Teams
DESCRIPTION:
 Please join us for this one day workshop on&nbsp\;Managing C
 omplexity and Dynamics with Agile Teams&nbsp\;and&nbsp\;learn together wit
 h the experts.
LOCATION:PSB Academy City Campus 6 Raffles Blvd\, #03-200 Marina Square\, S
 ingapore 039594
DTSTART:20190330T003000Z
DTEND:20190330T090000Z
DTSTAMP:20260420T055233Z
ORGANIZER;CN=PMI SG Chapter Events:MAILTO:events@pmi.org.sg
GEO:0;103.848564
X-APPLE-STRUCTURED-LOCATION;VALUE=URI;X-ADDRESS=PSB Academy City Campus 6 R
 affles Blvd\, #03-200 Marina Square\, Singapore 039594;X-APPLE-RADIUS=72;X
 -TITLE=PSB Academy @ Marina SQ:0;103.848564
END:VEVENT
END:VCALENDAR