BEGIN:VCALENDAR
VERSION:2.0
PRODID:Events Booking
BEGIN:VEVENT
UID:69e542a847ce8
SUMMARY:Webinar - Project to Product Approach
DESCRIPTION:Please join us for this 1-hour Professional Development Webinar
 &nbsp\;with Dr. Niladri Choudhuri:&nbsp\;“Project to Product Approach\"
 
 (1 Technical PDU)
DTSTART:20190815T090000Z
DTEND:20190815T100000Z
DTSTAMP:20260419T210128Z
ORGANIZER;CN=PMI SG Chapter Events:MAILTO:events@pmi.org.sg
END:VEVENT
END:VCALENDAR