BEGIN:VCALENDAR
VERSION:2.0
PRODID:Events Booking
BEGIN:VEVENT
UID:69e572b286a27
SUMMARY:Webinar: Deliver Projects Quicker\, Reduce Costs and Develop your V
 irtual International Team for Project Success (13 June)
DESCRIPTION:
 &nbsp\;
 &nbsp\;
 &nbsp\;
 &nbsp\;
 &nbsp\;
 &nbsp\;
 
 &nbsp\;
 &nbsp\;
 &nbsp\;Please join us for this 1 hour Professional Dev
 elopment Webinar Event by&nbsp\;Peter Ivanov&nbsp\;on “Deliver projects 
 quicker\, reduce costs and develop your virtual international team for pro
 ject success!”.
DTSTART:20190613T090000Z
DTEND:20190613T100000Z
DTSTAMP:20260420T002626Z
ORGANIZER;CN=PMI SG Chapter Events:MAILTO:events@pmi.org.sg
END:VEVENT
END:VCALENDAR