BEGIN:VCALENDAR
VERSION:2.0
PRODID:Events Booking
BEGIN:VEVENT
UID:69e5588e3d161
SUMMARY:Webinar - Make it much easier to learn & practice PM
DESCRIPTION:Please join us for this 1-hour Professional Development Webinar
  by Frank Turley:&nbsp\;“Make it much easier to learn and practice PM\".
 
 (1 Technical PDU)
DTSTART:20190717T090000Z
DTEND:20190717T100000Z
DTSTAMP:20260419T223454Z
ORGANIZER;CN=PMI SG Chapter Events:MAILTO:events@pmi.org.sg
END:VEVENT
END:VCALENDAR