BEGIN:VCALENDAR
VERSION:2.0
PRODID:Events Booking
BEGIN:VEVENT
UID:69e87d2e1b18a
SUMMARY:New Chapter Member Orientation - by invitation - Feb 2024
DESCRIPTION:Welcome New Members! Looking forward to meeting you and answeri
 ng any questions you may have. We will also help you maximise your benefit
 s. Please log in to register.
DTSTART:20240219T120000Z
DTEND:20240219T130000Z
DTSTAMP:20260422T074758Z
ORGANIZER;CN=PMI SG Chapter Events:MAILTO:events@pmi.org.sg
END:VEVENT
END:VCALENDAR