BEGIN:VCALENDAR
VERSION:2.0
PRODID:Events Booking
BEGIN:VEVENT
UID:69e5be766552e
SUMMARY:Maximising Stakeholder Engagement – Dealing with the Techniques a
 nd Methods of Building Productive Relationships.
DESCRIPTION:
 SOLD OUT&nbsp\;EVENT !&nbsp\;
 An event organised by Women 
 in Project Management
 
 Please join us for these 2 hours Professional D
 evelopment Event on \"Maximising Stakeholder Engagement – dealing with t
 he techniques and methods of building productive relationships.\" and&nbsp
 \;learn together.
LOCATION:250 North Bridge Rd\, Singapore 179101
DTSTART:20190423T110000Z
DTEND:20190423T130000Z
DTSTAMP:20260420T054942Z
ORGANIZER;CN=PMI SG Chapter Events:MAILTO:events@pmi.org.sg
GEO:1.293867;103.852507
X-APPLE-STRUCTURED-LOCATION;VALUE=URI;X-ADDRESS=250 North Bridge Rd\, Singa
 pore 179101;X-APPLE-RADIUS=72;X-TITLE=Avanade Asia Pte Ltd:1.293867;103.85
 2507
END:VEVENT
END:VCALENDAR