BEGIN:VCALENDAR
VERSION:2.0
PRODID:Events Booking
BEGIN:VEVENT
UID:69e587a3b1b9c
SUMMARY:Managing Projects for Machine Learning\, AI & New Tech Stack
DESCRIPTION:
 &nbsp\;
 &nbsp\;
 &nbsp\;
 &nbsp\;
 &nbsp\;
 &nbsp\;
 
 &nbsp\;
 &nbsp\;
 &nbsp\;
 &nbsp\;
 Please join us for these 2 hours P
 rofessional Development Event on \"Managing Projects for Machine Learning\
 , AI &amp\; New Tech Stack.\"
LOCATION:PSB Academy City Campus 6 Raffles Blvd\, #03-200 Marina Square\, S
 ingapore 039594
DTSTART:20190530T110000Z
DTEND:20190530T130000Z
DTSTAMP:20260420T015547Z
ORGANIZER;CN=PMI SG Chapter Events:MAILTO:events@pmi.org.sg
GEO:0;103.848564
X-APPLE-STRUCTURED-LOCATION;VALUE=URI;X-ADDRESS=PSB Academy City Campus 6 R
 affles Blvd\, #03-200 Marina Square\, Singapore 039594;X-APPLE-RADIUS=72;X
 -TITLE=PSB Academy @ Marina SQ:0;103.848564
END:VEVENT
END:VCALENDAR