BEGIN:VCALENDAR
VERSION:2.0
PRODID:Events Booking
BEGIN:VEVENT
UID:69e61ed12db24
SUMMARY:Importance of Stakeholders & The Global Logic of Strategic Alliance
 s
DESCRIPTION:
 &nbsp\;
 Please join us for these 2 hours Professional Deve
 lopment Event and learn more about&nbsp\;Importance of Stakeholders &amp\;
  the Global Logic of Strategic Alliances.
LOCATION:PSB Academy City Campus 6 Raffles Blvd\, #03-200 Marina Square\, S
 ingapore 039594
DTSTART:20181114T110000Z
DTEND:20181114T130000Z
DTSTAMP:20260420T124049Z
ORGANIZER;CN=PMI SG Chapter Events:MAILTO:events@pmi.org.sg
GEO:0;103.848564
X-APPLE-STRUCTURED-LOCATION;VALUE=URI;X-ADDRESS=PSB Academy City Campus 6 R
 affles Blvd\, #03-200 Marina Square\, Singapore 039594;X-APPLE-RADIUS=72;X
 -TITLE=PSB Academy @ Marina SQ:0;103.848564
END:VEVENT
END:VCALENDAR