BEGIN:VCALENDAR
VERSION:2.0
PRODID:Events Booking
BEGIN:VEVENT
UID:69e66c415194f
SUMMARY:“How to Strengthen Project Team Culture? Build a Tribe!”
DESCRIPTION:
 
 
 
 
 
 
 
 
 
 
 &nbsp\;Please join us for thes
 e 2 hours Professional Development Event and learn “How to strengthen pr
 oject team culture? Build a tribe!”
LOCATION:90 Stamford Road\, Singapore Management University\, Singapore 178
 903
DTSTART:20180802T110000Z
DTEND:20180802T130000Z
DTSTAMP:20260420T181113Z
ORGANIZER;CN=PMI SG Chapter Events:MAILTO:events@pmi.org.sg
GEO:1.297537;103.84897
X-APPLE-STRUCTURED-LOCATION;VALUE=URI;X-ADDRESS=90 Stamford Road\, Singapor
 e Management University\, Singapore 178903;X-APPLE-RADIUS=72;X-TITLE=Schoo
 l of Economics & Social Science :1.297537;103.84897
END:VEVENT
END:VCALENDAR