BEGIN:VCALENDAR
VERSION:2.0
PRODID:Events Booking
BEGIN:VEVENT
UID:69e6378b91c2b
SUMMARY:How to Manage Risks in Agile and Predictive Environments
DESCRIPTION:
 
 
 
 
 
 
 
 Please join us for these 2 hours Profes
 sional Development Event on \"How to Manage Risks in Agile and Predictive 
 Environments\". In this seminar\, we will analyse how to manage risks rega
 rdless of the type of project and the approach to be used\, explaining cas
 es and appropriate tools &amp\; techniques.
LOCATION:55 MARKET STREET\, #03-01\, SINGAPORE 048941
DTSTART:20181011T110000Z
DTEND:20181011T130000Z
DTSTAMP:20260420T142619Z
ORGANIZER;CN=PMI SG Chapter Events:MAILTO:events@pmi.org.sg
GEO:0;103.848564
X-APPLE-STRUCTURED-LOCATION;VALUE=URI;X-ADDRESS=55 MARKET STREET\, #03-01\,
  SINGAPORE 048941;X-APPLE-RADIUS=72;X-TITLE=TKP Conference Centre @ Raffle
 s Place:0;103.848564
END:VEVENT
END:VCALENDAR