BEGIN:VCALENDAR
VERSION:2.0
PRODID:Events Booking
BEGIN:VEVENT
UID:69e602a3c9038
SUMMARY:Engaging The Multi-Generational Workforce
DESCRIPTION:
 Please join us for these 2 hours Professional Development Ev
 ent on \"Engaging The Multi-Generational Workforce\" and learn how  to u
 nderstand the multi-generation workforce and how you can enhance employees
  engagement to create highly performing and engaging team.
LOCATION:PSB Academy City Campus 6 Raffles Blvd\, #03-200 Marina Square\, S
 ingapore 039594
DTSTART:20181206T110000Z
DTEND:20181206T130000Z
DTSTAMP:20260420T104035Z
ORGANIZER;CN=PMI SG Chapter Events:MAILTO:events@pmi.org.sg
GEO:0;103.848564
X-APPLE-STRUCTURED-LOCATION;VALUE=URI;X-ADDRESS=PSB Academy City Campus 6 R
 affles Blvd\, #03-200 Marina Square\, Singapore 039594;X-APPLE-RADIUS=72;X
 -TITLE=PSB Academy @ Marina SQ:0;103.848564
END:VEVENT
END:VCALENDAR