BEGIN:VCALENDAR
VERSION:2.0
PRODID:Events Booking
BEGIN:VEVENT
UID:69e64f2871974
SUMMARY:Design Thinking for Project Managers
DESCRIPTION:
 
 
 
 
 
 
 
 Please join us for these 2 hours Profes
 sional Development Event on Design Thinking for Project Managers\,&nbsp\;h
 oned by award-winning design &amp\; innovation firm IDEO. In this engaging
  DT-Intro\, Dr. Meadows introduces IDEO's DT methodology\, business value\
 , project examples\, and tools &amp\; techniques from the world's most inn
 ovative companies.
LOCATION:1 Marina Blvd\, Singapore 018989
DTSTART:20180927T110000Z
DTEND:20180927T130000Z
DTSTAMP:20260420T160704Z
ORGANIZER;CN=PMI SG Chapter Events:MAILTO:events@pmi.org.sg
GEO:1.282219;103.852615
X-APPLE-STRUCTURED-LOCATION;VALUE=URI;X-ADDRESS=1 Marina Blvd\, Singapore 0
 18989;X-APPLE-RADIUS=72;X-TITLE=NTUC One Marina Boulevard :1.282219;103.85
 2615
END:VEVENT
END:VCALENDAR