BEGIN:VCALENDAR
VERSION:2.0
PRODID:Events Booking
BEGIN:VEVENT
UID:69e5ecfaa1033
SUMMARY:Blockchain - Technology Leader perspective - Opportunities & Challe
 nges
DESCRIPTION:
 &nbsp\;
 Please join us for these 2 hours Professional Deve
 lopment Event on \"Blockchain - Opportunities &amp\; Challenges\" and unde
 rstand more on Blockchain technology\, its value and the skills and knowle
 dge needed to land into Blockchain jobs.
LOCATION:PSB Academy City Campus 6 Raffles Blvd\, #03-200 Marina Square\, S
 ingapore 039594
DTSTART:20190124T110000Z
DTEND:20190124T130000Z
DTSTAMP:20260420T090810Z
ORGANIZER;CN=PMI SG Chapter Events:MAILTO:events@pmi.org.sg
GEO:0;103.848564
X-APPLE-STRUCTURED-LOCATION;VALUE=URI;X-ADDRESS=PSB Academy City Campus 6 R
 affles Blvd\, #03-200 Marina Square\, Singapore 039594;X-APPLE-RADIUS=72;X
 -TITLE=PSB Academy @ Marina SQ:0;103.848564
END:VEVENT
END:VCALENDAR