BEGIN:VCALENDAR
VERSION:2.0
PRODID:Events Booking
BEGIN:VEVENT
UID:69e6996b5b325
SUMMARY:Agility and Adaptability - Success in Disruptive Times
DESCRIPTION:
 
 
 
 
 
 
 
 
 
 Please join us for these 2 hours 
 Professional Development Event and learn from&nbsp\;both Ben and Alan shar
 ing their experiences working in Grab for you to appreciate how both agili
 ty and adaptability will enhance your survival.
LOCATION:1 Marina Blvd\, Singapore 018989
DTSTART:20180628T110000Z
DTEND:20180628T130000Z
DTSTAMP:20260420T212355Z
ORGANIZER;CN=PMI SG Chapter Events:MAILTO:events@pmi.org.sg
GEO:1.282205;103.852649
X-APPLE-STRUCTURED-LOCATION;VALUE=URI;X-ADDRESS=1 Marina Blvd\, Singapore 0
 18989;X-APPLE-RADIUS=72;X-TITLE=Room No. 801\, Level 8\, NTUC Center:1.282
 205;103.852649
END:VEVENT
END:VCALENDAR